BEGIN:VCALENDAR
VERSION:2.0
PRODID:-//ChamberMaster//Event Calendar 2.0//EN
METHOD:PUBLISH
X-PUBLISHED-TTL:P3D
REFRESH-INTERVAL:P3D
CALSCALE:GREGORIAN
BEGIN:VEVENT
DTSTART:20150206T223000Z
DTEND:20150207T000000Z
X-MICROSOFT-CDO-ALLDAYEVENT:FALSE
SUMMARY:Presentation: Groups that are "doing history" in Mendocino County
DESCRIPTION:Coming up on February 13th\, Mendocino Study Club will meet at Preston Hall\, Mendocino Presbyterian Church at 1:30 p.m. Sylvia Bartley will present an overview of different groups that are "doing history" in Mendocino County. She will focus on the Guest House Museum in Fort Bragg. Join us and bring a friend!Preston Hall is at 44831 Main Street\, Mendocino CA 95460.
X-ALT-DESC;FMTTYPE=text/html:<p>Coming up on February 13th\, Mendocino Study Club will meet at Preston Hall\, Mendocino Presbyterian Church at 1:30 p.m. Sylvia Bartley will present an overview of different groups that are "doing history" in Mendocino County. She will focus on the Guest House Museum in Fort Bragg. Join us and bring a friend!</p><p>Preston Hall is at 44831 Main Street\, Mendocino CA 95460.</p>
LOCATION:Preston Hall\, Mendocino Presbyterian Church Mendocino\, CA
UID:e.2883.503
SEQUENCE:3
DTSTAMP:20260422T152305Z
URL:https://mendocinocoast.com/events/details/presentation-groups-that-are-doing-history-in-mendocino-county-02-06-2015-503
END:VEVENT

END:VCALENDAR
