BEGIN:VCALENDAR
VERSION:2.0
PRODID:-//ChamberMaster//Event Calendar 2.0//EN
METHOD:PUBLISH
X-PUBLISHED-TTL:P3D
REFRESH-INTERVAL:P3D
CALSCALE:GREGORIAN
BEGIN:VEVENT
DTSTART:20140422T030100Z
DTEND:20140422T050000Z
X-MICROSOFT-CDO-ALLDAYEVENT:FALSE
SUMMARY:Poncho Sanchez Latin Jazz Band at Mendocino Music Festivall
DESCRIPTION:Poncho Sanchez and his Latin Jazz BandThursday\, July 24\, 20148:00 PM\, Tent Concert HallPoncho Sanchezâ€™s music is a swirl of some of the hottest colors and brightest lights to emerge from either side of the border. At every show Latin jazz\, swing\, bebop\, salsa and other infectious grooves collide and churn with results that are no less than dazzling. Among the more prominent figures that inform his music are conga drummer and composer Chano Pozo\, and trumpeter Dizzy Gillespie.Poncho Sanchez says\, â€œThereâ€™s room for a lot of different sounds in our music. We put it all together in a pot\, boil it together and come out with a big stew. This isnâ€™t some marketing strategy to sell records. These are the sounds I grew up with. So when I play this music\, Iâ€™m not telling a lie. Iâ€™m telling my story. This is the real thing.â€In 2000\, Sanchez and his ensemble won the Grammy Award for Best Latin Jazz Album for their work on the Concord Picante album Latin Soul. In 2012 Sanchez received A Lifetime Achievement Award from the Latin Recording Academy. As a teen\, Sanchez first learned to play guitar from â€œthe guy across the streetâ€ because he couldnâ€™t afford to buy an instrument. He gravitated to percussion after his siblings introduced him to the music that was then called cha-cha music.The Mendocino Music Festival runs July 12 - 26. For more information: www.MendocinoMusic.org  707 937-2044
X-ALT-DESC;FMTTYPE=text/html:Poncho Sanchez and his Latin Jazz BandThursday\, July 24\, 20148:00 PM\, Tent Concert HallPoncho Sanchezâ€™s music is a swirl of some of the hottest colors and brightest lights to emerge from either side of the border. At every show Latin jazz\, swing\, bebop\, salsa and other infectious grooves collide and churn with results that are no less than dazzling. Among the more prominent figures that inform his music are conga drummer and composer Chano Pozo\, and trumpeter Dizzy Gillespie.Poncho Sanchez says\, â€œThereâ€™s room for a lot of different sounds in our music. We put it all together in a pot\, boil it together and come out with a big stew. This isnâ€™t some marketing strategy to sell records. These are the sounds I grew up with. So when I play this music\, Iâ€™m not telling a lie. Iâ€™m telling my story. This is the real thing.â€In 2000\, Sanchez and his ensemble won the Grammy Award for Best Latin Jazz Album for their work on the Concord Picante album Latin Soul. In 2012 Sanchez received A Lifetime Achievement Award from the Latin Recording Academy. As a teen\, Sanchez first learned to play guitar from â€œthe guy across the streetâ€ because he couldnâ€™t afford to buy an instrument. He gravitated to percussion after his siblings introduced him to the music that was then called cha-cha music.The Mendocino Music Festival runs July 12 - 26. For more information: www.MendocinoMusic.org  707 937-2044
LOCATION:16\,000 square foot Tent Performance Hall on the Mendocino Headlands State Park
UID:e.2883.234
SEQUENCE:3
DTSTAMP:20260423T114352Z
URL:https://mendocinocoast.com/events/details/poncho-sanchez-latin-jazz-band-at-mendocino-music-festivall-04-21-2014-234
END:VEVENT

END:VCALENDAR
