BEGIN:VCALENDAR
VERSION:2.0
PRODID:-//ChamberMaster//Event Calendar 2.0//EN
METHOD:PUBLISH
X-PUBLISHED-TTL:P3D
REFRESH-INTERVAL:P3D
CALSCALE:GREGORIAN
BEGIN:VEVENT
DTSTART:20140422T220000Z
DTEND:20140422T233000Z
X-MICROSOFT-CDO-ALLDAYEVENT:FALSE
SUMMARY:Pollack and Tenenbaum: Duo Pianos at Mendocino Music Festivall
DESCRIPTION:Julian Waterfall Pollack and Natalie Tenenbaum: Duo PianosSaturday\, July 26\, 2014\, 3:00 PMPreston HallTwo of the most brilliantly talented pianist/composers from the New York scene team up to play the driving\, rhythmic music of Adams\, Reich\, and their own compositions\, as well as creative arrangements of popular contemporary songs.The eclectic program was drawn together by the performersâ€™ love of great music\, regardless of genre\, and their interest in the immense sound that two pianos are capable of producing together.Julian Waterfall Pollack: â€œâ€¦a ferociously assured and creatively dazzling pianist\, composer\, and arrangerâ€¦â€ San Francisco ChronicleNatalie Tenenbaum: â€œThe performances were consistently invigorating.  In Mr. Eckardtâ€™s score\, Natalie Tenenbaum gave a sparkling\, sharply accented account of the prominent solo pianoâ€¦â€ Allan Kozinn\, New York TimesThe Mendocino Music Festival runs July 12 - 26. For more information: www.MendocinoMusic.org  707 937-2044
X-ALT-DESC;FMTTYPE=text/html:Julian Waterfall Pollack and Natalie Tenenbaum: Duo PianosSaturday\, July 26\, 2014\, 3:00 PMPreston HallTwo of the most brilliantly talented pianist/composers from the New York scene team up to play the driving\, rhythmic music of Adams\, Reich\, and their own compositions\, as well as creative arrangements of popular contemporary songs.The eclectic program was drawn together by the performersâ€™ love of great music\, regardless of genre\, and their interest in the immense sound that two pianos are capable of producing together.Julian Waterfall Pollack: â€œâ€¦a ferociously assured and creatively dazzling pianist\, composer\, and arrangerâ€¦â€ San Francisco ChronicleNatalie Tenenbaum: â€œThe performances were consistently invigorating.  In Mr. Eckardtâ€™s score\, Natalie Tenenbaum gave a sparkling\, sharply accented account of the prominent solo pianoâ€¦â€ Allan Kozinn\, New York TimesThe Mendocino Music Festival runs July 12 - 26. For more information: www.MendocinoMusic.org  707 937-2044
LOCATION:16\,000 square foot Tent Performance Hall on the Mendocino Headlands State Park
UID:e.2883.236
SEQUENCE:3
DTSTAMP:20260423T100602Z
URL:https://mendocinocoast.com/events/details/pollack-and-tenenbaum-duo-pianos-at-mendocino-music-festivall-04-22-2014-236
END:VEVENT

END:VCALENDAR
