BEGIN:VCALENDAR
VERSION:2.0
PRODID:-//ChamberMaster//Event Calendar 2.0//EN
METHOD:PUBLISH
X-PUBLISHED-TTL:P3D
REFRESH-INTERVAL:P3D
CALSCALE:GREGORIAN
BEGIN:VEVENT
DTSTART;VALUE=DATE:20140215
DTEND;VALUE=DATE:20140216
TRANSP:TRANSPARENT
X-MICROSOFT-CDO-ALLDAYEVENT:TRUE
SUMMARY:Polar Plunge
DESCRIPTION:The Fort Bragg Aquatics (FBA) Swim Team will participate in the annual Polar Plunge event at Big River on Saturday\, February 22nd\, to support athletes of the Special Olympics of Northern California. Â On the day of the event\, FBA swimmers will jump in the Big River\, wearing a clever costume\, to ensure that athletes with disabilities have a chance to compete in swimming events.\n\nFBA swim team members are looking for sponsors and raising donations at tables set up at the Safeway supermarket on Saturday\, February 15.\nIt takes only $125 to sponsor one Special Olympics athlete to participate in Special Olympics events. Â Our team goal is to raise $2\,000 from the community for the Polar Plunge at Big River.\n\nPlease help FBA help other swimming athletes by donating any amount you can at the FBA table. Â Please note that FBA is sponsored by the "Friends of MCRPD"\na registered nonprofit. Â Go toÂ www.polarplungenorcalnv.com orÂ www.fortbraggaquatics.com to make on-line donations and more information in the name of FBA Swim Team.
X-ALT-DESC;FMTTYPE=text/html:<p>The Fort Bragg Aquatics (FBA) Swim Team will participate in the annual Polar Plunge event at Big River on Saturday\, February 22nd\, to support athletes of the Special Olympics of Northern California. Â On the day of the event\, FBA swimmers will jump in the Big River\, wearing a clever costume\, to ensure that athletes with disabilities have a chance to compete in swimming events.<br /><br />FBA swim team members are looking for sponsors and raising donations at tables set up at the Safeway supermarket on Saturday\, February 15.<br />It takes only $125 to sponsor one Special Olympics athlete to participate in Special Olympics events. Â Our team goal is to raise $2\,000 from the community for the Polar Plunge at Big River.<br /><br />Please help FBA help other swimming athletes by donating any amount you can at the FBA table. Â Please note that FBA is sponsored by the "Friends of MCRPD"<br />a registered nonprofit. Â Go toÂ <a href="http://www.polarplungenorcalnv.com/">www.polarplungenorcalnv.com</a> orÂ <a href="http://www.fortbraggaquatics.com/">www.fortbraggaquatics.com</a> to make on-line donations and more information in the name of FBA Swim Team.</p>
LOCATION:Big River Beach Mendocino
UID:e.2883.133
SEQUENCE:3
DTSTAMP:20260423T131407Z
URL:https://mendocinocoast.com/events/details/polar-plunge-02-15-2014-133
END:VEVENT

END:VCALENDAR
