BEGIN:VCALENDAR
VERSION:2.0
PRODID:-//ChamberMaster//Event Calendar 2.0//EN
METHOD:PUBLISH
X-PUBLISHED-TTL:P3D
REFRESH-INTERVAL:P3D
CALSCALE:GREGORIAN
BEGIN:VEVENT
DTSTART:20140926T013000Z
DTEND:20140925T070000Z
X-MICROSOFT-CDO-ALLDAYEVENT:FALSE
SUMMARY:Point Cabrillo Lighthouse Concert
DESCRIPTION:Keith MurphyLive music of Newfoundland and New England on fingerstyle guitar and mandoline\, with french canadian foot percusionConcert in the lighthouseStarts at 7:00 p.m.Advanced tickets $20giftshop@pointcabrillo.orgor call: 707-937-6123Tickets at the door $25 if availableParking in front of the keepers houseTraditional songs in English and FrenchAudience chorus to join in
X-ALT-DESC;FMTTYPE=text/html:<p>Keith Murphy</p><p>Live music of Newfoundland and New England on fingerstyle guitar and mandoline\, with french canadian foot percusion</p><p>Concert in the lighthouse</p><p>Starts at 7:00 p.m.</p><p>Advanced tickets $20</p><p>giftshop@pointcabrillo.org</p><p>or call: 707-937-6123</p><p>Tickets at the door $25 if available</p><p>Parking in front of the keepers house</p><p>Traditional songs in English and French</p><p>Audience chorus to join in</p>
LOCATION:Point Cabrillo Lighthouse Mendocino CA
UID:e.2883.336
SEQUENCE:3
DTSTAMP:20260422T231744Z
URL:https://mendocinocoast.com/events/details/point-cabrillo-lighthouse-concert-09-25-2014-336
END:VEVENT

END:VCALENDAR
