BEGIN:VCALENDAR
VERSION:2.0
PRODID:-//ChamberMaster//Event Calendar 2.0//EN
METHOD:PUBLISH
X-PUBLISHED-TTL:P3D
REFRESH-INTERVAL:P3D
CALSCALE:GREGORIAN
BEGIN:VEVENT
DTSTART:20140918T170000Z
DTEND:20140918T220000Z
X-MICROSOFT-CDO-ALLDAYEVENT:FALSE
SUMMARY:Point Arena Lighthouse
DESCRIPTION:The 3rd Friday of every month the Point Arena Lighthouse offers free admission to all visitors.Docent led tours leave every 20 min.45500 Lighthouse Road Point Arena CA(707)-882-2777Opens at 10:00 a.m. - 3:00 a.m.Fri. Sept. 19 2014 10:00 a.m.Fri. Oct. 17 2014 10:00 a.m.
X-ALT-DESC;FMTTYPE=text/html:<p>The 3rd Friday of every month the Point Arena Lighthouse offers free admission to all visitors.</p><p>Docent led tours leave every 20 min.</p><p>45500 Lighthouse Road Point Arena CA</p><p>(707)-882-2777</p><p>Opens at 10:00 a.m. - 3:00 a.m.</p><p>Fri. Sept. 19 2014 10:00 a.m.</p><p>Fri. Oct. 17 2014 10:00 a.m.</p>
LOCATION:Point Arena Lighthouse
UID:e.2883.333
SEQUENCE:3
DTSTAMP:20260422T231713Z
URL:https://mendocinocoast.com/events/details/point-arena-lighthouse-09-18-2014-333
END:VEVENT

END:VCALENDAR
