BEGIN:VCALENDAR
VERSION:2.0
PRODID:-//ChamberMaster//Event Calendar 2.0//EN
METHOD:PUBLISH
X-PUBLISHED-TTL:P3D
REFRESH-INTERVAL:P3D
CALSCALE:GREGORIAN
BEGIN:VEVENT
DTSTART:20140418T030000Z
DTEND:20140418T050100Z
X-MICROSOFT-CDO-ALLDAYEVENT:FALSE
SUMMARY:POCO at Mendocino Music Festival
DESCRIPTION:POCOSunday\, July 20\, 2014\, 8:00 PMTent Concert Hall - overlooking the Pacific Ocean.One of the first and longest-lasting country-rock groups\, POCO will perform an encore concert on the stage of the Mendocino Music Festival.  Rusty Young has announced the bandâ€™s February 2014 retirement from regular touring\, but has agreed to do one more performance for the Festival as a result of the great reception the band got in 2013!Formed by members of Buffalo Springfield in 1968\, POCO was originally a southern California group\, but many of its members live in Nashville now. Band leader Rusty Young is the only original member\, and has been part of the group the entire time.  They have released many successful albums over the years and know how to put on a great show.  You will not want to miss this concert of an incredible\, legendary group!The Mendocino Music Festival runs July12 - 26. More information: www.MendocinoMusic.org  707 937-2044
X-ALT-DESC;FMTTYPE=text/html:POCOSunday\, July 20\, 2014\, 8:00 PMTent Concert Hall - overlooking the Pacific Ocean.One of the first and longest-lasting country-rock groups\, POCO will perform an encore concert on the stage of the Mendocino Music Festival.  Rusty Young has announced the bandâ€™s February 2014 retirement from regular touring\, but has agreed to do one more performance for the Festival as a result of the great reception the band got in 2013!Formed by members of Buffalo Springfield in 1968\, POCO was originally a southern California group\, but many of its members live in Nashville now. Band leader Rusty Young is the only original member\, and has been part of the group the entire time.  They have released many successful albums over the years and know how to put on a great show.  You will not want to miss this concert of an incredible\, legendary group!The Mendocino Music Festival runs July12 - 26. More information: www.MendocinoMusic.org  707 937-2044
LOCATION:16\,000 square foot Tent Performance Hall on the Mendocino Headlands State Park
UID:e.2883.223
SEQUENCE:3
DTSTAMP:20260423T100155Z
URL:https://mendocinocoast.com/events/details/poco-at-mendocino-music-festival-04-17-2014-223
END:VEVENT

END:VCALENDAR
