BEGIN:VCALENDAR
VERSION:2.0
PRODID:-//ChamberMaster//Event Calendar 2.0//EN
METHOD:PUBLISH
X-PUBLISHED-TTL:P3D
REFRESH-INTERVAL:P3D
CALSCALE:GREGORIAN
BEGIN:VEVENT
DTSTART:20150128T043000Z
DTEND:20150128T060000Z
X-MICROSOFT-CDO-ALLDAYEVENT:FALSE
SUMMARY:Pizza Oven Inauguration Party
DESCRIPTION:The Mendocino Art Center (45200 Little Lake Road\, Mendocino) has built a new\, permanent\, wood-fired pizza oven\, outside the art studios in the Zacha Sculpture Garden. Thursday January 29th come by for the first pizza â€œfiringâ€ and spend an enjoyable evening savoring delicious handmade pizza\, fine wine and the MAC Community staring at 5:30. JUST Also A POP-UP CONCERT WITH GWYNETH MORELAND AND DAVID HAYES.Pizza & Wine $20.
X-ALT-DESC;FMTTYPE=text/html:<p>The Mendocino Art Center (45200 Little Lake Road\, Mendocino) has built a new\, permanent\, wood-fired pizza oven\, outside the art studios in the Zacha Sculpture Garden. Thursday January 29th come by for the first pizza â€œfiringâ€ and spend an enjoyable evening savoring delicious handmade pizza\, fine wine and the MAC Community staring at 5:30. JUST Also A POP-UP CONCERT WITH GWYNETH MORELAND AND DAVID HAYES.</p><p>Pizza &amp\; Wine $20.</p>
LOCATION:Mendocino Art Center Mendocino\, CA
UID:e.2883.473
SEQUENCE:3
DTSTAMP:20260422T163431Z
URL:https://mendocinocoast.com/events/details/pizza-oven-inauguration-party-01-27-2015-473
END:VEVENT

END:VCALENDAR
