BEGIN:VCALENDAR
VERSION:2.0
PRODID:-//ChamberMaster//Event Calendar 2.0//EN
METHOD:PUBLISH
X-PUBLISHED-TTL:P3D
REFRESH-INTERVAL:P3D
CALSCALE:GREGORIAN
BEGIN:VEVENT
DTSTART:20150220T230000Z
DTEND:20150221T010000Z
X-MICROSOFT-CDO-ALLDAYEVENT:FALSE
SUMMARY:Pinewood Derby Test and Tune Day @ Gualala Art Center
DESCRIPTION:Pinewood Derby Test and Tune Day\nA Play Day for all Pinewood Derby EnthusiastsSaturday\, February 28\, 2015\n2:00 - 4:00 p.m.\nGualala Arts Center Coleman AuditoriumIntended as "play day" for all Pinewood Derby enthusiasts\, this free event will allow racers to run their cars on the state-of-the-art four lane aluminum track and use the timing results to tune their cars for maximum performance."Just plain have FUN getting ready for the big race in July\," says Roddy. "Mike and I heard from many people this 'play day' concept would be a great idea\, so we decided to go for it."For more information call JR at (707) 884-1837 (work)\, (707) 884-9121 (home) or email him atonit41@yahoo.comTheÂ Gualala Arts Center\, located at 46501 Old State Highway in Gualala\, CA\,\nis open weekdays 9:00 a.m. to 4:00 p.m.\, and weekends from noon to 4:00 p.m.More info: www.gualalaarts.orgÂ
X-ALT-DESC;FMTTYPE=text/html:<h1>Pinewood Derby Test and Tune Day<br /><span>A Play Day for all Pinewood Derby Enthusiasts</span></h1><h2>Saturday\, February 28\, 2015<br />2:00 - 4:00 p.m.<br />Gualala Arts Center Coleman Auditorium</h2><p>Intended as "play day" for all Pinewood Derby enthusiasts\, this free event will allow racers to run their cars on the state-of-the-art four lane aluminum track and use the timing results to tune their cars for maximum performance.</p><p>"Just plain have FUN getting ready for the big race in July\," says Roddy. "Mike and I heard from many people this 'play day' concept would be a great idea\, so we decided to go for it."</p><p>For more information call JR at (707) 884-1837 (work)\, (707) 884-9121 (home) or email him at<a href="mailto:onit41@yahoo.com">onit41@yahoo.com</a></p><p>TheÂ <strong>Gualala Arts Center</strong>\, located at 46501 Old State Highway in Gualala\, CA\,<br />is open weekdays 9:00 a.m. to 4:00 p.m.\, and weekends from noon to 4:00 p.m.</p><p>More info: <a href="http://www.gualalaarts.org" target="_blank">www.gualalaarts.org</a></p><p>Â </p>
LOCATION:Gualala Art Center
UID:e.2883.543
SEQUENCE:3
DTSTAMP:20260422T164101Z
URL:https://mendocinocoast.com/events/details/pinewood-derby-test-and-tune-day-gualala-art-center-02-20-2015-543
END:VEVENT

END:VCALENDAR
