BEGIN:VCALENDAR
VERSION:2.0
PRODID:-//ChamberMaster//Event Calendar 2.0//EN
METHOD:PUBLISH
X-PUBLISHED-TTL:P3D
REFRESH-INTERVAL:P3D
CALSCALE:GREGORIAN
BEGIN:VEVENT
DTSTART:20150330T160000Z
DTEND:20150330T220000Z
X-MICROSOFT-CDO-ALLDAYEVENT:FALSE
SUMMARY:Pickadilly Marketplace
DESCRIPTION:Buy\, sell\, trade at the Mendocino Pickadilly Flea Market\, 9AM - 3PM on the second Saturday of the month. \nPark your van\, pickup\, or station wagon\, and lighten your load with minimal set-up.Â  Located in the parking lot at the Community Center of Mendocino\, 998 School Street. Vendor set up starts at 8 AM\, spaces are $25\, and advance registration is advised. Information at 937-4133\, http://www.ccmendo.orgThere will be artwork and art books\, jewelry\, housewares\, fresh homemade pickles and savories\, and more!Â  MendoUnited Soccer will be featuring tamales\, fresh coffee and beverages to raise funds to send their players to Europe. Come support their efforts and pick up some great deals!
X-ALT-DESC;FMTTYPE=text/html:<p>Buy\, sell\, trade at the Mendocino Pickadilly Flea Market\, 9AM - 3PM on the second Saturday of the month. <br />Park your van\, pickup\, or station wagon\, and lighten your load with minimal set-up.Â  Located in the parking lot at the Community Center of Mendocino\, 998 School Street. Vendor set up starts at 8 AM\, spaces are $25\, and advance registration is advised. Information at 937-4133\, http://www.ccmendo.org</p><p>There will be artwork and art books\, jewelry\, housewares\, fresh homemade pickles and savories\, and more!Â  MendoUnited Soccer will be featuring tamales\, fresh coffee and beverages to raise funds to send their players to Europe. Come support their efforts and pick up some great deals!</p>
LOCATION:Community Center of Mendocino
UID:e.2883.578
SEQUENCE:3
DTSTAMP:20260422T133230Z
URL:https://mendocinocoast.com/events/details/pickadilly-marketplace-03-30-2015-578
END:VEVENT

END:VCALENDAR
