BEGIN:VCALENDAR
VERSION:2.0
PRODID:-//ChamberMaster//Event Calendar 2.0//EN
METHOD:PUBLISH
X-PUBLISHED-TTL:P3D
REFRESH-INTERVAL:P3D
CALSCALE:GREGORIAN
BEGIN:VEVENT
DTSTART;VALUE=DATE:20140702
DTEND;VALUE=DATE:20140703
TRANSP:TRANSPARENT
X-MICROSOFT-CDO-ALLDAYEVENT:TRUE
SUMMARY:Pickadilly Flea Market
DESCRIPTION:Buy\, sell\, trade at the first Mendocino Pickadilly Flea Market on July 12. Park your van\, pickup\, or station wagon\, and make some fabulous deals. Located in the parking lot at the Community Center of Mendocino\, 998 School Street\, the event is from 9AM - 3PM. Set up starts at 8 AM\, vendor spaces are $25\, and\, advance registration is advised. Registration and information at 937-4133.
X-ALT-DESC;FMTTYPE=text/html:<p>Buy\, sell\, trade at the first Mendocino Pickadilly Flea Market on July 12. Park your van\, pickup\, or station wagon\, and make some fabulous deals. Located in the parking lot at the Community Center of Mendocino\, 998 School Street\, the event is from 9AM - 3PM. Set up starts at 8 AM\, vendor spaces are $25\, and\, advance registration is advised. Registration and information at 937-4133.</p>
LOCATION:Community Center of Mendocino
UID:e.2883.284
SEQUENCE:3
DTSTAMP:20260423T023403Z
URL:https://mendocinocoast.com/events/details/pickadilly-flea-market-07-02-2014-284
END:VEVENT

END:VCALENDAR
