BEGIN:VCALENDAR
VERSION:2.0
PRODID:-//ChamberMaster//Event Calendar 2.0//EN
METHOD:PUBLISH
X-PUBLISHED-TTL:P3D
REFRESH-INTERVAL:P3D
CALSCALE:GREGORIAN
BEGIN:VEVENT
DTSTART:20140414T220200Z
DTEND:20140414T233000Z
X-MICROSOFT-CDO-ALLDAYEVENT:FALSE
SUMMARY:Piano Series: Robert Schwartz at Mendocino Music Festivall
DESCRIPTION:Piano Series: Robert SchwartzThursday\, July 17\, 2014 3:00 PMPreston Hall - adjacent to Mendocino Presbyterian ChurchPianist Robert Schwartz is returning to the Festival to play Mozart Sonata in Bb Major K. 570\, Mendelssohn Songs Without Words (Selected) and Brahms Sonata in F Minor Op. 5.Schwartz is an active performer and teacher with international credits.  He is often soloist with the San Francisco Chamber Orchestra and Palo Alto Chamber Orchestra and has a new CD coming out of the piano music of Debussy\, Franck\, and Poulenc.The Mendocino Music Festival runs July 12 - 26.
X-ALT-DESC;FMTTYPE=text/html:Piano Series: Robert SchwartzThursday\, July 17\, 2014 3:00 PMPreston Hall - adjacent to Mendocino Presbyterian ChurchPianist Robert Schwartz is returning to the Festival to play Mozart Sonata in Bb Major K. 570\, Mendelssohn Songs Without Words (Selected) and Brahms Sonata in F Minor Op. 5.Schwartz is an active performer and teacher with international credits.  He is often soloist with the San Francisco Chamber Orchestra and Palo Alto Chamber Orchestra and has a new CD coming out of the piano music of Debussy\, Franck\, and Poulenc.The Mendocino Music Festival runs July 12 - 26.
LOCATION:Preston Hall - adjacent to Mendocino Presbyterian Church
UID:e.2883.212
SEQUENCE:3
DTSTAMP:20260423T100450Z
URL:https://mendocinocoast.com/events/details/piano-series-robert-schwartz-at-mendocino-music-festivall-04-14-2014-212
END:VEVENT

END:VCALENDAR
