BEGIN:VCALENDAR
VERSION:2.0
PRODID:-//ChamberMaster//Event Calendar 2.0//EN
METHOD:PUBLISH
X-PUBLISHED-TTL:P3D
REFRESH-INTERVAL:P3D
CALSCALE:GREGORIAN
BEGIN:VEVENT
DTSTART:20140416T220000Z
DTEND:20140416T233000Z
X-MICROSOFT-CDO-ALLDAYEVENT:FALSE
SUMMARY:Piano Series: Paul Hersh and Violinist Stefan Hersh at Mendocino Music Fetivall
DESCRIPTION:Piano Series: Paul HershFriday\, July 18\, 2014\, 3:00 PMPreston Hall - adjacent to the Mendocino Presbyterian Church\, Main Street Mendocino.The Piano Series regulars always welcome Paul Hershâ€™s lecture recitals. This season Hersh will bring his son\, violinist Stefan Hersh\, to explore Beethovenâ€™s last violin and piano sonatas.The Mendocino Music Festival runs July 12 - 26.
X-ALT-DESC;FMTTYPE=text/html:Piano Series: Paul HershFriday\, July 18\, 2014\, 3:00 PMPreston Hall - adjacent to the Mendocino Presbyterian Church\, Main Street Mendocino.The Piano Series regulars always welcome Paul Hershâ€™s lecture recitals. This season Hersh will bring his son\, violinist Stefan Hersh\, to explore Beethovenâ€™s last violin and piano sonatas.The Mendocino Music Festival runs July 12 - 26.
LOCATION:16\,000 square foot Tent Performance Hall Mendocino
UID:e.2883.214
SEQUENCE:3
DTSTAMP:20260423T100725Z
URL:https://mendocinocoast.com/events/details/piano-series-paul-hersh-and-violinist-stefan-hersh-at-mendocino-music-fetivall-04-16-2014-214
END:VEVENT

END:VCALENDAR
