BEGIN:VCALENDAR
VERSION:2.0
PRODID:-//ChamberMaster//Event Calendar 2.0//EN
METHOD:PUBLISH
X-PUBLISHED-TTL:P3D
REFRESH-INTERVAL:P3D
CALSCALE:GREGORIAN
BEGIN:VEVENT
DTSTART:20141020T220000Z
DTEND:20141021T000000Z
X-MICROSOFT-CDO-ALLDAYEVENT:FALSE
SUMMARY:Pianist Mike Strickland Benefit Concert
DESCRIPTION:In a benefit for the Mendocino Art Center\, pianist Mike Strickland performs a full concert at a private oceanfront home. Strickland is a gifted composer\, arranger\, and recording artist\, bringing pop\, jazz\, blues\, boogie\, and gorgeous original music to the stage with distinctive style and flair. He is known for his exceptional musicianship and a strong connection with his audience.
X-ALT-DESC;FMTTYPE=text/html:<p>In a benefit for the Mendocino Art Center\, pianist Mike Strickland performs a full concert at a private oceanfront home. Strickland is a gifted composer\, arranger\, and recording artist\, bringing pop\, jazz\, blues\, boogie\, and gorgeous original music to the stage with distinctive style and flair. He is known for his exceptional musicianship and a strong connection with his audience.</p>
LOCATION:Mendocino Art Center
UID:e.2883.354
SEQUENCE:3
DTSTAMP:20260422T214755Z
URL:https://mendocinocoast.com/events/details/pianist-mike-strickland-benefit-concert-10-20-2014-354
END:VEVENT

END:VCALENDAR
