BEGIN:VCALENDAR
VERSION:2.0
PRODID:-//ChamberMaster//Event Calendar 2.0//EN
METHOD:PUBLISH
X-PUBLISHED-TTL:P3D
REFRESH-INTERVAL:P3D
CALSCALE:GREGORIAN
BEGIN:VEVENT
DTSTART:20150825T180100Z
DTEND:20150825T190000Z
X-MICROSOFT-CDO-ALLDAYEVENT:FALSE
SUMMARY:Paul Bunyan Day Parade
DESCRIPTION:Applications available at the chamber of Commerce. Deadline for entry Wednesday Â September 2 2015 . Â The theme is Happy Trails with Paul and Babe  Parade begins at 11:00 am(check in at 9:00am) Â on Labor Day ( Monday September 7)
X-ALT-DESC;FMTTYPE=text/html:<p>Applications available at the chamber of Commerce. Deadline for entry Wednesday Â September 2 2015 . Â The theme is <strong>Happy Trails with Paul and Babe </strong> Parade begins at 11:00 am(check in at 9:00am) Â on Labor Day ( Monday September 7)</p>
LOCATION:Downtown Fort Bragg
UID:e.2883.711
SEQUENCE:3
DTSTAMP:20260422T050151Z
URL:https://mendocinocoast.com/events/details/paul-bunyan-day-parade-08-25-2015-711
END:VEVENT

END:VCALENDAR
