BEGIN:VCALENDAR
VERSION:2.0
PRODID:-//ChamberMaster//Event Calendar 2.0//EN
METHOD:PUBLISH
X-PUBLISHED-TTL:P3D
REFRESH-INTERVAL:P3D
CALSCALE:GREGORIAN
BEGIN:VEVENT
DTSTART:20150618T170100Z
DTEND:20150618T230000Z
X-MICROSOFT-CDO-ALLDAYEVENT:FALSE
SUMMARY:"Passion for Paper" Hand Sewn Constructions by Rachel Binah
DESCRIPTION:PARTNERS GALLERYÂ RACHEL BINAHPASSION FOR PAPER:Â  HAND SEWN CONSTRUCTIONSÂ July 2nd through August 2nd\, 2015First Friday Reception July 3rd\, 5-8pm. Wine poured by Handley CellarsRachel Binah's new hand sewn constructions are the featured work at Partners Gallery in Fort Bragg for the month of July. Her pieces evoke water in its many forms\, fluid and solid: Ocean\, River\, Vapor and Ice.Â  "I have a passion for paper -- plain or embellished with paint and mixed media. My work comes together intuitively as I tear and sew the paper.Â  I focus on developing textural contrasts\, shadows and the architectural structures they create.Â  Although my work is made to be hung on a wall\, I am constantly subtly pushing the dimensions out from the wall."Â Partners Gallery is located at 335N. Franklin Street in Fort Bragg and is open Wednesday through Monday 10 am to 5 pm and Sundays 10 am to 4 pm.707 962-0233Â  http://www.partnersgallery.com Â Â
X-ALT-DESC;FMTTYPE=text/html:<p>PARTNERS GALLERY</p><p>Â </p><p>RACHEL BINAH</p><p>PASSION FOR PAPER:Â  HAND SEWN CONSTRUCTIONS</p><p>Â </p><p>July 2nd through August 2nd\, 2015</p><p>First Friday Reception July 3rd\, 5-8pm. Wine poured by Handley Cellars</p><p>Rachel Binah's new hand sewn constructions are the featured work at Partners Gallery in Fort Bragg for the month of July. Her pieces evoke water in its many forms\, fluid and solid: Ocean\, River\, Vapor and Ice.Â  "I have a passion for paper -- plain or embellished with paint and mixed media. My work comes together intuitively as I tear and sew the paper.Â  I focus on developing textural contrasts\, shadows and the architectural structures they create.Â  Although my work is made to be hung on a wall\, I am constantly subtly pushing the dimensions out from the wall."</p><p>Â </p><p>Partners Gallery is located at 335N. Franklin Street in Fort Bragg and is open Wednesday through Monday 10 am to 5 pm and Sundays 10 am to 4 pm.</p><p>707 962-0233Â  <a href="http://www.partnersgallery.com">http://www.partnersgallery.com</a>&gt\;</p><p>Â </p><p>Â </p>
LOCATION:Partners Gallery Fort Bragg
UID:e.2883.653
SEQUENCE:3
DTSTAMP:20260422T082322Z
URL:https://mendocinocoast.com/events/details/passion-for-paper-hand-sewn-constructions-by-rachel-binah-06-18-2015-653
END:VEVENT

END:VCALENDAR
