BEGIN:VCALENDAR
VERSION:2.0
PRODID:-//ChamberMaster//Event Calendar 2.0//EN
METHOD:PUBLISH
X-PUBLISHED-TTL:P3D
REFRESH-INTERVAL:P3D
CALSCALE:GREGORIAN
BEGIN:VEVENT
DTSTART;VALUE=DATE:20141004
DTEND;VALUE=DATE:20141005
TRANSP:TRANSPARENT
X-MICROSOFT-CDO-ALLDAYEVENT:TRUE
SUMMARY:Parducci Wine Cellars to host first annual Crush Rush\, 5K benefit run
DESCRIPTION:The Thornhill Family will host the first annualÂ Crush Rush 5K benefit run\, at Parducci Wine Cellars on Sunday\, October 12th.Â  The race will begin at 8:30 AM and the Thornhillâ€™s and Parducci Wine Cellars invite runners\, joggers\, and walkers of all ages and abilities to tour the scenic 115-acre Parducci Home Ranch vineyard and winery following the race.The Parducci Crush Rush is a community fundraiser to benefit the Ukiah Unified School Gardens Program.Â  The North Coast Striders\, a Mendocino County running club\, is sponsoring the event.Pre-registration is open until Thursday\, October 9th.Â  The race entry fee is $25 for adults and $15 for participants sixteen and under.Â  Entry includes a race t-shirt\, brunch\, and a complimentary wine tasting.To register\, please visitÂ www.Active.com or the Parducci Tasting Room for a registration form. Entrants should arrive at 7:30 AM on the race day to receive their racing bibs.Top finishers in five age divisions will win prizes including gift certificates to Ukiah businesses.Â  Parducci Wine Cellars invites those who cannot participate in the Crush Rush to cheer on their friends and family\, and attend the awards presentation at 10:00 AM on the Parducci
X-ALT-DESC;FMTTYPE=text/html:<p>The Thornhill Family will host the first annualÂ <span style="text-decoration: underline\;">Crush Rush</span> 5K benefit run\, at Parducci Wine Cellars on Sunday\, October 12th.Â  The race will begin at 8:30 AM and the Thornhillâ€™s and Parducci Wine Cellars invite runners\, joggers\, and walkers of all ages and abilities to tour the scenic 115-acre Parducci Home Ranch vineyard and winery following the race.</p><p>The Parducci Crush Rush is a community fundraiser to benefit the Ukiah Unified School Gardens Program.Â  The North Coast Striders\, a Mendocino County running club\, is sponsoring the event.</p><p>Pre-registration is open until Thursday\, October 9th.Â  The race entry fee is $25 for adults and $15 for participants sixteen and under.Â  Entry includes a race t-shirt\, brunch\, and a complimentary wine tasting.</p><p><strong>To register\, please visitÂ <span style="text-decoration: underline\;"><a href="http://www.Active.com/">www.Active.com</a></span> or the Parducci Tasting Room for a registration form.</strong> Entrants should arrive at 7:30 AM on the race day to receive their racing bibs.</p><p>Top finishers in five age divisions will win prizes including gift certificates to Ukiah businesses.Â  Parducci Wine Cellars invites those who cannot participate in the Crush Rush to cheer on their friends and family\, and attend the awards presentation at 10:00 AM on the Parducci</p>
LOCATION:Parducci Wine Cellars Ukiah
UID:e.2883.349
SEQUENCE:3
DTSTAMP:20260422T231935Z
URL:https://mendocinocoast.com/events/details/parducci-wine-cellars-to-host-first-annual-crush-rush-5k-benefit-run-10-04-2014-349
END:VEVENT

END:VCALENDAR
