BEGIN:VCALENDAR
VERSION:2.0
PRODID:-//ChamberMaster//Event Calendar 2.0//EN
METHOD:PUBLISH
X-PUBLISHED-TTL:P3D
REFRESH-INTERVAL:P3D
CALSCALE:GREGORIAN
BEGIN:VEVENT
DTSTART:20140616T190000Z
DTEND:20140616T200000Z
X-MICROSOFT-CDO-ALLDAYEVENT:FALSE
SUMMARY:Parade on July 6th at Point Arena
DESCRIPTION:The Parade begins at Noon on Sunday July 6th at Point Arena . For more information call Amy at 882-2975
X-ALT-DESC;FMTTYPE=text/html:<p>The Parade begins at Noon on Sunday July 6th at Point Arena . For more information call Amy at 882-2975</p>
LOCATION:Point Arena
UID:e.2883.280
SEQUENCE:3
DTSTAMP:20260423T081323Z
URL:https://mendocinocoast.com/events/details/parade-on-july-6th-at-point-arena-06-16-2014-280
END:VEVENT

END:VCALENDAR
