BEGIN:VCALENDAR
VERSION:2.0
PRODID:-//ChamberMaster//Event Calendar 2.0//EN
METHOD:PUBLISH
X-PUBLISHED-TTL:P3D
REFRESH-INTERVAL:P3D
CALSCALE:GREGORIAN
BEGIN:VEVENT
DTSTART:20141002T000000Z
DTEND:20141001T230000Z
X-MICROSOFT-CDO-ALLDAYEVENT:FALSE
SUMMARY:Pacific Textile Arts Fiber Fair
DESCRIPTION:New and used textile treasuresSat. Oct. 4\, 201410 different fiber artists\, and Hospice Thrift Shop will have tables selling new fiber works (towels\, aprons\, potholders\, hats\, bags\, scarves\, shawls\, rugs\, yarns\, etc.) as well as gently used ethnic textiles\, unique handmade clothing\, fabrics\, books\, yarns\, looms\, shuttles\, other equiptment\, and related textile treasures.First Friday oct. 3 from 5-8 p.m.Preview show/sale in the Pacific Textile Arts Gallery450 Alger St. Fort Bragg\, CA 95437(end of Laurel St.\, turn left\, first house)
X-ALT-DESC;FMTTYPE=text/html:<p>New and used textile treasures</p><p>Sat. Oct. 4\, 2014</p><p>10 different fiber artists\, and Hospice Thrift Shop will have tables selling new fiber works (towels\, aprons\, potholders\, hats\, bags\, scarves\, shawls\, rugs\, yarns\, etc.) as well as gently used ethnic textiles\, unique handmade clothing\, fabrics\, books\, yarns\, looms\, shuttles\, other equiptment\, and related textile treasures.</p><p>First Friday oct. 3 from 5-8 p.m.</p><p>Preview show/sale in the Pacific Textile Arts Gallery</p><p>450 Alger St. Fort Bragg\, CA 95437</p><p>(end of Laurel St.\, turn left\, first house)</p>
LOCATION:Pacific Textile Arts Fort Bragg CA
UID:e.2883.347
SEQUENCE:3
DTSTAMP:20260422T231812Z
URL:https://mendocinocoast.com/events/details/pacific-textile-arts-fiber-fair-10-01-2014-347
END:VEVENT

END:VCALENDAR
