BEGIN:VCALENDAR
VERSION:2.0
PRODID:-//ChamberMaster//Event Calendar 2.0//EN
METHOD:PUBLISH
X-PUBLISHED-TTL:P3D
REFRESH-INTERVAL:P3D
CALSCALE:GREGORIAN
BEGIN:VEVENT
DTSTART:20141230T230000Z
DTEND:20141231T030000Z
X-MICROSOFT-CDO-ALLDAYEVENT:FALSE
SUMMARY:Pacific Star Winery Annual Crab & Wine Gala
DESCRIPTION:Join us for our annual feast featuring local Dungeness crab and a variety of side dishes paired with Pacific Star wines. The event is held at our oceanside winery 12 miles north of Fort Bragg. $80/general\; $70/Wine Club members. 2-6 p.m. Pacific Star Winery\, 33000 N. Hwy One\, Fort Bragg. 707.962.9463 www.pacificstarwinery.com
X-ALT-DESC;FMTTYPE=text/html:<p>Join us for our annual feast featuring local Dungeness crab and a variety of side dishes paired with Pacific Star wines. The event is held at our oceanside winery 12 miles north of Fort Bragg. $80/general\; $70/Wine Club members. 2-6 p.m. Pacific Star Winery\, 33000 N. Hwy One\, Fort Bragg. 707.962.9463 www.pacificstarwinery.com</p>
LOCATION:Pacific Star Winery Fort Bragg CA
UID:e.2883.417
SEQUENCE:3
DTSTAMP:20260422T181941Z
URL:https://mendocinocoast.com/events/details/pacific-star-winery-annual-crab-wine-gala-12-30-2014-417
END:VEVENT

END:VCALENDAR
