BEGIN:VCALENDAR
VERSION:2.0
PRODID:-//ChamberMaster//Event Calendar 2.0//EN
METHOD:PUBLISH
X-PUBLISHED-TTL:P3D
REFRESH-INTERVAL:P3D
CALSCALE:GREGORIAN
BEGIN:VEVENT
DTSTART;VALUE=DATE:20140423
DTEND;VALUE=DATE:20140424
TRANSP:TRANSPARENT
X-MICROSOFT-CDO-ALLDAYEVENT:TRUE
SUMMARY:Oster\, Daley\, & Adianna Trio - Bluegrass
DESCRIPTION:The Oster\, Daley & Adrianna Trio will be featured in Mendocino Stories & Music Series on Friday\, May 16. Influenced by traditional bluegrass and the more contemporary styles\, the trio is a blend of close harmonies and fancy pickin' with a uniquely Northern California/Mendocino County sound. Music starts at 7:30PM at the Mendocino Hotel.\n\nThe musical flow of these talented multi-instrumentalists covers a wide-ranging repertoire of tastefully realized traditional tunes\, creative contemporary covers\, and inspired original songwriting. Equally sharing lead vocal duties\, the father/ daughter harmony of Kenny and Adrianna reflects the classic traditional family harmonies of the past. The addition of Bob's voice to this family sound offers a sweetly satisfying blend.\n\nThe Oster\, Daley and Adrianna Trio captures the blue-collar sound of the vineyard and winery lifestyle unique to Northern California. Their new CD "Standing In The Trees" is the long-term realization of this Mendocino musical culture\, and the finest of Mendocino County acoustic music.\n\nAll ages are welcome! Doors open at 6:30 PM for bistro menu and libations. Reserved table seating $20\, $15 general admission. Call Pattie at 937-1732 or www.mendocinostories.com/events.html
X-ALT-DESC;FMTTYPE=text/html:<p>The Oster\, Daley &amp\; Adrianna Trio will be featured in <strong>Mendocino Stories &amp\; Music Series </strong>on Friday\, May 16. Influenced by traditional bluegrass and the more contemporary styles\, the trio is a blend of close harmonies and fancy pickin' with a uniquely Northern California/Mendocino County sound. Music starts at 7:30PM at the Mendocino Hotel.<br /><br />The musical flow of these talented multi-instrumentalists covers a wide-ranging repertoire of tastefully realized traditional tunes\, creative contemporary covers\, and inspired original songwriting. Equally sharing lead vocal duties\, the father/ daughter harmony of Kenny and Adrianna reflects the classic traditional family harmonies of the past. The addition of Bob's voice to this family sound offers a sweetly satisfying blend.<br /><br />The Oster\, Daley and Adrianna Trio captures the blue-collar sound of the vineyard and winery lifestyle unique to Northern California. Their new CD "Standing In The Trees" is the long-term realization of this Mendocino musical culture\, and the finest of Mendocino County acoustic music.<br /><br />All ages are welcome! Doors open at 6:30 PM for bistro menu and libations. Reserved table seating $20\, $15 general admission. Call Pattie at 937-1732 or www.mendocinostories.com/events.html</p>
LOCATION:Mendocino Hotel Garden Room
UID:e.2883.240
SEQUENCE:3
DTSTAMP:20260423T100144Z
URL:https://mendocinocoast.com/events/details/oster-daley-adianna-trio-bluegrass-04-23-2014-240
END:VEVENT

END:VCALENDAR
