BEGIN:VCALENDAR
VERSION:2.0
PRODID:-//ChamberMaster//Event Calendar 2.0//EN
METHOD:PUBLISH
X-PUBLISHED-TTL:P3D
REFRESH-INTERVAL:P3D
CALSCALE:GREGORIAN
BEGIN:VEVENT
DTSTART:20150206T193000Z
DTEND:20150206T210000Z
X-MICROSOFT-CDO-ALLDAYEVENT:FALSE
SUMMARY:ORIGAMI Tokens of Love Workshop @ Fort Bragg library
DESCRIPTION:FoldÂ Origami Heart Cards and a Honey Bunny for Valentineâ€™s Day with Kathy Silva in the Community Room at the Fort Bragg Library on Saturday\, February 7 from 10:30am until 12noon.Adults and children are welcome. Children under 10 need to bring an adult.Â The workshop is free and all supplies are provided.The library is situated at 499 Laurel Street\, Fort Bragg. Call 707-964-2020 or go to www.fortbragglibrary.org for more information.
X-ALT-DESC;FMTTYPE=text/html:<p>FoldÂ Origami Heart Cards and a Honey Bunny for Valentineâ€™s Day with Kathy Silva in the Community Room at the Fort Bragg Library on Saturday\, February 7 from 10:30am until 12noon.</p><p>Adults and children are welcome. Children under 10 need to bring an adult.Â The workshop is free and all supplies are provided.</p><p>The library is situated at 499 Laurel Street\, Fort Bragg. Call 707-964-2020 or go to <a href="http://www.fortbragglibrary.org" target="_blank">www.fortbragglibrary.org</a> for more information.</p>
LOCATION:Fort Bragg Library Fort Bragg CA
UID:e.2883.506
SEQUENCE:3
DTSTAMP:20260422T151439Z
URL:https://mendocinocoast.com/events/details/origami-tokens-of-love-workshop-fort-bragg-library-02-06-2015-506
END:VEVENT

END:VCALENDAR
