BEGIN:VCALENDAR
VERSION:2.0
PRODID:-//ChamberMaster//Event Calendar 2.0//EN
METHOD:PUBLISH
X-PUBLISHED-TTL:P3D
REFRESH-INTERVAL:P3D
CALSCALE:GREGORIAN
BEGIN:VEVENT
DTSTART;VALUE=DATE:20140304
DTEND;VALUE=DATE:20140305
TRANSP:TRANSPARENT
X-MICROSOFT-CDO-ALLDAYEVENT:TRUE
SUMMARY:OPUS\, Chamber Music Series
DESCRIPTION:Symphony Of The Redwoods OPUS\, Chamber Music Series. - J.S. Bach - Â Brandenburg Concerto no 3 Venue\; Fort Bragg Prebyterian Church. Marcia Lotter & Friends Including Tammie Dyer\, violin\; Jon Konigsmark\, violin\; Marcia Lotter\, violin\; Joel Cohen\, cello\; Cory Antipa\, cello\; Marcia Sloan\, cello\; Karen Zimmerman\, Bass. Tickets online or at the door or two weeks before the concert at Harvest Market and Tangents in Fort Bragg\, Out of tThis World in Mendocino. Information 707-964-0898 SymphonyoftheRedwoods.org
X-ALT-DESC;FMTTYPE=text/html:<p>Symphony Of The Redwoods OPUS\, Chamber Music Series. - J.S. Bach - Â Brandenburg Concerto no 3 Venue\; Fort Bragg Prebyterian Church. Marcia Lotter &amp\; Friends Including Tammie Dyer\, violin\; Jon Konigsmark\, violin\; Marcia Lotter\, violin\; Joel Cohen\, cello\; Cory Antipa\, cello\; Marcia Sloan\, cello\; Karen Zimmerman\, Bass. Tickets online or at the door or two weeks before the concert at Harvest Market and Tangents in Fort Bragg\, Out of tThis World in Mendocino. Information 707-964-0898 <a href="http://www.SymphonyoftheRedwoods.org">SymphonyoftheRedwoods.org</a></p>
LOCATION:Fort Bragg Prebyterian Church
UID:e.2883.166
SEQUENCE:3
DTSTAMP:20260423T113612Z
URL:https://mendocinocoast.com/events/details/opus-chamber-music-series-03-04-2014-166
END:VEVENT

END:VCALENDAR
