BEGIN:VCALENDAR
VERSION:2.0
PRODID:-//ChamberMaster//Event Calendar 2.0//EN
METHOD:PUBLISH
X-PUBLISHED-TTL:P3D
REFRESH-INTERVAL:P3D
CALSCALE:GREGORIAN
BEGIN:VEVENT
DTSTART:20141019T185900Z
DTEND:20141019T190100Z
X-MICROSOFT-CDO-ALLDAYEVENT:FALSE
SUMMARY:Opus Chamber Music Concert
DESCRIPTION:The Town Quartet will perform chamber music from Haydn to Janacek. The Town Quartet is based in Oakland\, CA and is composed by four young talanted professional musicians with ties to the Mendocino Coast.
X-ALT-DESC;FMTTYPE=text/html:<p>The Town Quartet will perform chamber music from Haydn to Janacek. The Town Quartet is based in Oakland\, CA and is composed by four young talanted professional musicians with ties to the Mendocino Coast.</p>
LOCATION:Preston Hall Mendocino
UID:e.2883.353
SEQUENCE:3
DTSTAMP:20260422T231940Z
URL:https://mendocinocoast.com/events/details/opus-chamber-music-concert-10-19-2014-353
END:VEVENT

END:VCALENDAR
