BEGIN:VCALENDAR
VERSION:2.0
PRODID:-//ChamberMaster//Event Calendar 2.0//EN
METHOD:PUBLISH
X-PUBLISHED-TTL:P3D
REFRESH-INTERVAL:P3D
CALSCALE:GREGORIAN
BEGIN:VEVENT
DTSTART;VALUE=DATE:20150622
DTEND;VALUE=DATE:20150623
TRANSP:TRANSPARENT
X-MICROSOFT-CDO-ALLDAYEVENT:TRUE
SUMMARY:Opus Chamber Music Concert
DESCRIPTION:Exploring Personalities with Laura Reynolds.Laura Reynolds* explores the versatility of the oboe with a program ranging from the baroque to contemporary and the stoic to the whimsical. Ms. Reynolds will be joined by SOR musicians Beth and Tom Aiken\, oboe and harpsichord\, and Eva von Bahr\, bassoon.*Symphony of the Redwoods Featured Soloist 2012
X-ALT-DESC;FMTTYPE=text/html:<p>Exploring Personalities with Laura Reynolds.</p><p>Laura Reynolds* explores the versatility of the oboe with a program ranging from the baroque to contemporary and the stoic to the whimsical. Ms. Reynolds will be joined by SOR musicians Beth and Tom Aiken\, oboe and harpsichord\, and Eva von Bahr\, bassoon.</p><p>*Symphony of the Redwoods Featured Soloist 2012</p>
LOCATION:Preston Hall Mendocino
UID:e.2883.667
SEQUENCE:3
DTSTAMP:20260422T082507Z
URL:https://mendocinocoast.com/events/details/opus-chamber-music-concert-06-22-2015-667
END:VEVENT

END:VCALENDAR
