BEGIN:VCALENDAR
VERSION:2.0
PRODID:-//ChamberMaster//Event Calendar 2.0//EN
METHOD:PUBLISH
X-PUBLISHED-TTL:P3D
REFRESH-INTERVAL:P3D
CALSCALE:GREGORIAN
BEGIN:VEVENT
DTSTART:20140605T220000Z
DTEND:20140606T000000Z
X-MICROSOFT-CDO-ALLDAYEVENT:FALSE
SUMMARY:Opus Chamber Music Concert
DESCRIPTION:Symphony of the Redwoods is proud to present John Gilmore and Friends in an Opus Concert. It will be Jazz like you never heard it before! New and old tunes on a variety of instruments.
X-ALT-DESC;FMTTYPE=text/html:<p>Symphony of the Redwoods is proud to present John Gilmore and Friends in an Opus Concert. It will be Jazz like you never heard it before! New and old tunes on a variety of instruments.</p>
LOCATION:Preston Hall Mendocino
UID:e.2883.276
SEQUENCE:3
DTSTAMP:20260423T082016Z
URL:https://mendocinocoast.com/events/details/opus-chamber-music-concert-06-05-2014-276
END:VEVENT

END:VCALENDAR
