BEGIN:VCALENDAR
VERSION:2.0
PRODID:-//ChamberMaster//Event Calendar 2.0//EN
METHOD:PUBLISH
X-PUBLISHED-TTL:P3D
REFRESH-INTERVAL:P3D
CALSCALE:GREGORIAN
BEGIN:VEVENT
DTSTART:20150222T181100Z
DTEND:20150222T191100Z
X-MICROSOFT-CDO-ALLDAYEVENT:FALSE
SUMMARY:Opus Chamber Music Concert
DESCRIPTION:The Sierra Ensemble (sierraensemble.com) presentsÂ PERSIAN PREMIERE AND EUROPEAN GEMS. This ensemble blends violin\, french horn and piano to create a most exciting mixed trio. Performing classic gems as well as music of the 20th and 21st century. Sierra brings a unique experience of chamber expertice and solo artistery to the concert stage.
X-ALT-DESC;FMTTYPE=text/html:<p>The Sierra Ensemble (sierraensemble.com) presentsÂ <strong><span style="font-family:georgia\, serif\;">PERSIAN PREMIERE AND EUROPEAN GEMS. This ensemble blends violin\, french horn and piano to create a most exciting mixed trio. Performing classic gems as well as music of the 20th and 21st century. Sierra brings a unique experience of chamber expertice and solo artistery to the concert stage. </span></strong></p><p><strong><span style="font-family:georgia\, serif\;"><br /></span></strong></p>
LOCATION:Preston Hall Mendocino
UID:e.2883.548
SEQUENCE:3
DTSTAMP:20260422T150926Z
URL:https://mendocinocoast.com/events/details/opus-chamber-music-concert-02-22-2015-548
END:VEVENT

END:VCALENDAR
