BEGIN:VCALENDAR
VERSION:2.0
PRODID:-//ChamberMaster//Event Calendar 2.0//EN
METHOD:PUBLISH
X-PUBLISHED-TTL:P3D
REFRESH-INTERVAL:P3D
CALSCALE:GREGORIAN
BEGIN:VEVENT
DTSTART:20140418T030000Z
DTEND:20140418T050100Z
X-MICROSOFT-CDO-ALLDAYEVENT:FALSE
SUMMARY:Opera Great Frederica von Stade at Mendocino Music Festivall
DESCRIPTION:Frederica von StadeTuesday\, July 22\, 2014\, 8:00 PMTent Concert Hall - overlooking the Pacific OceanThe wonder of an art song is that it tells a story\, defines its characters and makes an emotional connection in just a few brief minutes. In this recital\, with pianist Miles Graber\, von Stade will sing songs by Ned Rorem\, Louis Guy\, Jake Heggie\, Maurice Ravel\, Virgil Thompson\, Aaron Copeland\, Gustav Mahler\, and Steven Sondheim and others.â€œEven if she were not one of the great singers of our day\, mezzo-soprano Frederica von Stade could probably draw a full house of people eager just to be in her presence and watch her be herself. Sheâ€™s that enchanting. Von Stade communicates something to her listeners â€“ a startling radiance compounded of serene grace and simple delight â€“ that few other recitalists can match.â€ Joshua Kosman\, San Francisco ChronicleMore information at www.MendocinoMusic.orgThe Mendocino Music Festival runs July 12 - 26.
X-ALT-DESC;FMTTYPE=text/html:Frederica von StadeTuesday\, July 22\, 2014\, 8:00 PMTent Concert Hall - overlooking the Pacific OceanThe wonder of an art song is that it tells a story\, defines its characters and makes an emotional connection in just a few brief minutes. In this recital\, with pianist Miles Graber\, von Stade will sing songs by Ned Rorem\, Louis Guy\, Jake Heggie\, Maurice Ravel\, Virgil Thompson\, Aaron Copeland\, Gustav Mahler\, and Steven Sondheim and others.â€œEven if she were not one of the great singers of our day\, mezzo-soprano Frederica von Stade could probably draw a full house of people eager just to be in her presence and watch her be herself. Sheâ€™s that enchanting. Von Stade communicates something to her listeners â€“ a startling radiance compounded of serene grace and simple delight â€“ that few other recitalists can match.â€ Joshua Kosman\, San Francisco ChronicleMore information at www.MendocinoMusic.orgThe Mendocino Music Festival runs July 12 - 26.
LOCATION:16\,000 square foot Tent Performance Hall Mendocino
UID:e.2883.225
SEQUENCE:3
DTSTAMP:20260423T100436Z
URL:https://mendocinocoast.com/events/details/opera-great-frederica-von-stade-at-mendocino-music-festivall-04-17-2014-225
END:VEVENT

END:VCALENDAR
