BEGIN:VCALENDAR
VERSION:2.0
PRODID:-//ChamberMaster//Event Calendar 2.0//EN
METHOD:PUBLISH
X-PUBLISHED-TTL:P3D
REFRESH-INTERVAL:P3D
CALSCALE:GREGORIAN
BEGIN:VEVENT
DTSTART:20140417T030000Z
DTEND:20140417T050000Z
X-MICROSOFT-CDO-ALLDAYEVENT:FALSE
SUMMARY:Opera Don Giovanni: Mendocino Music Festivall
DESCRIPTION:Opera: Don GiovanniFriday\, July 18\, 2014\, 8:00 PMTent Concert Hall - overlooking the Pacific OceanMozartâ€™s Don Giovanni is one of the most important operas of all time\, and is an audience favorite for good reasons. An extremely dramatic work\, full of intrigue\, spooky ghosts\, beautiful damsels\, and revenge\, itâ€™s based on the fictional legends of the notorious seducer\, Don Juan\, who carelessly abuses everyone in his life\, until he meets his match.This fully staged production will no doubt have its own local flavor. International stars will make you forget that you are in a tent on the Mendocino Headlands and will whisk you away to the castles and courts of Spain.The Mendocino Music Festival runs July 12 - 26.
X-ALT-DESC;FMTTYPE=text/html:Opera: Don GiovanniFriday\, July 18\, 2014\, 8:00 PMTent Concert Hall - overlooking the Pacific OceanMozartâ€™s Don Giovanni is one of the most important operas of all time\, and is an audience favorite for good reasons. An extremely dramatic work\, full of intrigue\, spooky ghosts\, beautiful damsels\, and revenge\, itâ€™s based on the fictional legends of the notorious seducer\, Don Juan\, who carelessly abuses everyone in his life\, until he meets his match.This fully staged production will no doubt have its own local flavor. International stars will make you forget that you are in a tent on the Mendocino Headlands and will whisk you away to the castles and courts of Spain.The Mendocino Music Festival runs July 12 - 26.
LOCATION:16\,000 square foot Tent Performance Hall on the Mendocino Headlands State Park
UID:e.2883.216
SEQUENCE:3
DTSTAMP:20260423T100318Z
URL:https://mendocinocoast.com/events/details/opera-don-giovanni-mendocino-music-festivall-04-16-2014-216
END:VEVENT

END:VCALENDAR
