BEGIN:VCALENDAR
VERSION:2.0
PRODID:-//ChamberMaster//Event Calendar 2.0//EN
METHOD:PUBLISH
X-PUBLISHED-TTL:P3D
REFRESH-INTERVAL:P3D
CALSCALE:GREGORIAN
BEGIN:VEVENT
DTSTART:20150812T180000Z
DTEND:20150813T000000Z
X-MICROSOFT-CDO-ALLDAYEVENT:FALSE
SUMMARY:Open Studios Fort Bragg Mendocino
DESCRIPTION:Local artists from Mendocino to north of Fort Bragg are opening     their studios in a special event during the holiday weekend\,     September 5 & 6\, 11AM - 5PM.Â  Watch demonstrations at the     Artists' Co-op in Mendocino and stroll through extensive collections     and selections by well known local artists including --Sandy                             Oppenheimer and John Fisher\, Claire Fortier\, Eleanor Harvey\, Mimi Blok\, Virginia Sharkey\, Juriaan                             Blok\, John and Judy Hewitt\, with guest artist Will                             Hewitt\, Jacquelyn and Christopher Cisper. Jessica Jade Norris at the Artist Coop of                             Mendocino (45270 Main St\, Mendocino) Maps will be available at Artists' Co-op of Mendocino on Main St Mendocno and at Hogan & Stickel\, 811 N Main St Fort Bragg. \nFine arts and crafts including paintings\, sculpture\, art-to-wear\, ceramics and more will be available to enjoy and purchase.
X-ALT-DESC;FMTTYPE=text/html:<p><span style="font-size: 10.5pt\; font-family: Helvetica\, sans-serif\; color: #141823\;">Local artists from Mendocino to north of Fort Bragg are opening     their studios in a special event during the holiday weekend\,     September 5 &amp\; 6\, 11AM - 5PM.Â  Watch demonstrations at the     Artists' Co-op in Mendocino and stroll through extensive collections     and selections by well known local artists including --Sandy                             Oppenheimer and John Fisher\, Claire Fortier\, Eleanor Harvey\, Mimi Blok\, Virginia Sharkey\, Juriaan                             Blok\, John and Judy Hewitt\, with guest artist Will                             Hewitt\, Jacquelyn and Christopher Cisper. Jessica Jade Norris at the Artist Coop of                             Mendocino (45270 Main St\, Mendocino) </span></p><p><span style="font-size: 10.5pt\; font-family: Helvetica\, sans-serif\; color: #141823\;">Maps will be available at Artists' Co-op of Mendocino on Main St Mendocno and at Hogan &amp\; Stickel\, 811 N Main St Fort Bragg. </span></p><p><br /><span style="font-size: medium\;">Fine arts and crafts including paintings\, sculpture\, art-to-wear\, ceramics and more will be available to enjoy and purchase. </span></p>
LOCATION:Various artist studios Fort Bragg
UID:e.2883.706
SEQUENCE:3
DTSTAMP:20260422T050059Z
URL:https://mendocinocoast.com/events/details/open-studios-fort-bragg-mendocino-08-12-2015-706
END:VEVENT

END:VCALENDAR
