BEGIN:VCALENDAR
VERSION:2.0
PRODID:-//ChamberMaster//Event Calendar 2.0//EN
METHOD:PUBLISH
X-PUBLISHED-TTL:P3D
REFRESH-INTERVAL:P3D
CALSCALE:GREGORIAN
BEGIN:VEVENT
DTSTART:20140910T160000Z
DTEND:20140910T180100Z
X-MICROSOFT-CDO-ALLDAYEVENT:FALSE
SUMMARY:Noyo Run 5K & 10K
DESCRIPTION:This run is part of the 8th Annual Wellness Festival at the Mendocino Coast District Hospital. Walking and racewalking is also included. This fun race starts in front of the Hospital 700 River Â Drive. It is an out and back again course including noyo River views\, redwoods and a hill climb for the 10K runners. This is a mixed surface event including some pavement and dirt roads. Â The race starts at 9:00am Saturday October 11\,2014.
X-ALT-DESC;FMTTYPE=text/html:<p>This run is part of the 8th Annual Wellness Festival at the Mendocino Coast District Hospital. Walking and racewalking is also included. This fun race starts in front of the Hospital 700 River Â Drive. It is an out and back again course including noyo River views\, redwoods and a hill climb for the 10K runners. This is a mixed surface event including some pavement and dirt roads. Â The race starts at 9:00am Saturday October 11\,2014.</p>
LOCATION:Mendocino Coast District Hospital Fort Bragg
UID:e.2883.328
SEQUENCE:3
DTSTAMP:20260422T231806Z
URL:https://mendocinocoast.com/events/details/noyo-run-5k-10k-09-10-2014-328
END:VEVENT

END:VCALENDAR
