BEGIN:VCALENDAR
VERSION:2.0
PRODID:-//ChamberMaster//Event Calendar 2.0//EN
METHOD:PUBLISH
X-PUBLISHED-TTL:P3D
REFRESH-INTERVAL:P3D
CALSCALE:GREGORIAN
BEGIN:VEVENT
DTSTART;VALUE=DATE:20160321
DTEND;VALUE=DATE:20160322
TRANSP:TRANSPARENT
X-MICROSOFT-CDO-ALLDAYEVENT:TRUE
SUMMARY:Noyo Food Forest's 10th Anniversary Earth Day
DESCRIPTION:Celebration Our Pollinators. A benefit for the learning garden. At Fort Bragg High School campus
X-ALT-DESC;FMTTYPE=text/html:<p>Celebration Our Pollinators. A benefit for the learning garden. At Fort Bragg High School campus</p>
LOCATION:Fort Bragg High School
UID:e.2883.899
SEQUENCE:3
DTSTAMP:20260421T173648Z
URL:https://mendocinocoast.com/events/details/noyo-food-forest-s-10th-anniversary-earth-day-03-21-2016-899
END:VEVENT

END:VCALENDAR
