BEGIN:VCALENDAR
VERSION:2.0
PRODID:-//ChamberMaster//Event Calendar 2.0//EN
METHOD:PUBLISH
X-PUBLISHED-TTL:P3D
REFRESH-INTERVAL:P3D
CALSCALE:GREGORIAN
BEGIN:VEVENT
DTSTART:20140918T190000Z
DTEND:20140918T120000Z
X-MICROSOFT-CDO-ALLDAYEVENT:FALSE
SUMMARY:Noyo Food Forest Earth Day 2015
DESCRIPTION:A family friendly event with food\, music and kid activities.
X-ALT-DESC;FMTTYPE=text/html:<p>A family friendly event with food\, music and kid activities.</p>
LOCATION:Noyo Food Forest Learning Garden Fort Bragg
UID:e.2883.334
SEQUENCE:3
DTSTAMP:20260422T232007Z
URL:https://mendocinocoast.com/events/details/noyo-food-forest-earth-day-2015-09-18-2014-334
END:VEVENT

END:VCALENDAR
