BEGIN:VCALENDAR
VERSION:2.0
PRODID:-//ChamberMaster//Event Calendar 2.0//EN
METHOD:PUBLISH
X-PUBLISHED-TTL:P3D
REFRESH-INTERVAL:P3D
CALSCALE:GREGORIAN
BEGIN:VEVENT
DTSTART;VALUE=DATE:20140228
DTEND;VALUE=DATE:20140301
TRANSP:TRANSPARENT
X-MICROSOFT-CDO-ALLDAYEVENT:TRUE
SUMMARY:Noyo Center's Whales in Science Lecture Series
DESCRIPTION:Meet the Beaty Blue Whale.Â Join Biologists Mike deRoos and Michi Main for the Noyo Centerâ€™s Whales in Science Lecture Series on Tuesday\, March 4th at Town Hall\, 363 N. Main Street\, 6:00-7:30 pm.
X-ALT-DESC;FMTTYPE=text/html:<p>Meet the Beaty Blue Whale.Â Join Biologists Mike deRoos and Michi Main for the Noyo Centerâ€™s Whales in Science Lecture Series on Tuesday\, March 4th at Town Hall\, 363 N. Main Street\, 6:00-7:30 pm.</p>
LOCATION:Town Hall Fort Bragg
UID:e.2883.162
SEQUENCE:3
DTSTAMP:20260423T132035Z
URL:https://mendocinocoast.com/events/details/noyo-center-s-whales-in-science-lecture-series-02-28-2014-162
END:VEVENT

END:VCALENDAR
