BEGIN:VCALENDAR
VERSION:2.0
PRODID:-//ChamberMaster//Event Calendar 2.0//EN
METHOD:PUBLISH
X-PUBLISHED-TTL:P3D
REFRESH-INTERVAL:P3D
CALSCALE:GREGORIAN
BEGIN:VEVENT
DTSTART:20140205T220000Z
DTEND:20140205T231500Z
X-MICROSOFT-CDO-ALLDAYEVENT:FALSE
SUMMARY:North Coast Brewery Tours
DESCRIPTION:North Coast Brewing will offer tours of the brewery on the following weekends through February:Saturday\, February 15 and Sunday\, February 16\, Saturday\, February 22 and Sunday\, February 23There is one tour each weekend day\, beginning at 1:30 pm. The tour will take 45 minutes.Tours will be limited to 20 people and reservations are suggested. You can make a reservation at the Brewery Shop â€“ 707 964-1286.Â  Gathering place is the Brewery Shop\, 501 N Main\, on the northwest corner of Main and Pine streets\, Fort Bragg.
X-ALT-DESC;FMTTYPE=text/html:<p>North Coast Brewing will offer tours of the brewery on the following weekends through February:Saturday\, February 15 and Sunday\, February 16\, Saturday\, February 22 and Sunday\, February 23</p><p>There is one tour each weekend day\, beginning at 1:30 pm. The tour will take 45 minutes.</p><p>Tours will be limited to 20 people and reservations are suggested. You can make a reservation at the Brewery Shop â€“ 707 964-1286.Â  Gathering place is the Brewery Shop\, 501 N Main\, on the northwest corner of Main and Pine streets\, Fort Bragg.</p>
LOCATION:North Coast Brewery Fort Bragg
UID:e.2883.120
SEQUENCE:3
DTSTAMP:20260423T131625Z
URL:https://mendocinocoast.com/events/details/north-coast-brewery-tours-02-05-2014-120
END:VEVENT

END:VCALENDAR
