BEGIN:VCALENDAR
VERSION:2.0
PRODID:-//ChamberMaster//Event Calendar 2.0//EN
METHOD:PUBLISH
X-PUBLISHED-TTL:P3D
REFRESH-INTERVAL:P3D
CALSCALE:GREGORIAN
BEGIN:VEVENT
DTSTART:20150325T160000Z
DTEND:20150325T230000Z
X-MICROSOFT-CDO-ALLDAYEVENT:FALSE
SUMMARY:Nor Coast Rodders Classic Car & Bike Show
DESCRIPTION:Car Show\, Raffle\, Concessions & Poker Walk
X-ALT-DESC;FMTTYPE=text/html:<p>Car Show\, Raffle\, Concessions &amp\; Poker Walk</p>
LOCATION:Laurel & Franklin Streets Fort Bragg
UID:e.2883.575
SEQUENCE:3
DTSTAMP:20260422T134038Z
URL:https://mendocinocoast.com/events/details/nor-coast-rodders-classic-car-bike-show-03-25-2015-575
END:VEVENT

END:VCALENDAR
