BEGIN:VCALENDAR
VERSION:2.0
PRODID:-//ChamberMaster//Event Calendar 2.0//EN
METHOD:PUBLISH
X-PUBLISHED-TTL:P3D
REFRESH-INTERVAL:P3D
CALSCALE:GREGORIAN
BEGIN:VEVENT
DTSTART:20140421T170000Z
DTEND:20140421T230000Z
X-MICROSOFT-CDO-ALLDAYEVENT:FALSE
SUMMARY:Nor Coast Rodders Car & Bike Show
DESCRIPTION:Classic Car & Bike ShowRaffle\, Concessions & Poker Walk
X-ALT-DESC;FMTTYPE=text/html:<p>Classic Car &amp\; Bike Show</p><p>Raffle\, Concessions &amp\; Poker Walk</p>
LOCATION:Downtown Fort Bragg
UID:e.2883.232
SEQUENCE:3
DTSTAMP:20260423T100155Z
URL:https://mendocinocoast.com/events/details/nor-coast-rodders-car-bike-show-04-21-2014-232
END:VEVENT

END:VCALENDAR
