BEGIN:VCALENDAR
VERSION:2.0
PRODID:-//ChamberMaster//Event Calendar 2.0//EN
METHOD:PUBLISH
X-PUBLISHED-TTL:P3D
REFRESH-INTERVAL:P3D
CALSCALE:GREGORIAN
BEGIN:VEVENT
DTSTART;VALUE=DATE:20140421
DTEND;VALUE=DATE:20140422
TRANSP:TRANSPARENT
X-MICROSOFT-CDO-ALLDAYEVENT:TRUE
SUMMARY:Ninth Annual Mendocino Film Festival
DESCRIPTION:The Ninth Annual Mendocino Film Festival brings the world to Mendocino County. Independent narratives\, documentaries\, short films\, children's films fill the silver screens of Mendocino\, Point Arena\, Fort Bragg\, Willits and Anderson Valley.View films (including three 2014 Academy Award winners) in working wineries at Balo Vineyards and The Madrones in Anderson Valley\, the Festival Tent\, Matheson Performing Arts Center and historic Crown Hall in Mendocino\, Coast Cinemas in Fort Bragg\, Noyo Theatre in Willits\, and the art-deco ambiance of the Point Arena Theater.Special events and Q&As with filmmakers will round out your Festival experience. You'll also enjoy the comfortable feel of these small towns.Come for the films and stay for the redwoods\, forest walks\, wine and beer tasting\, world-class restaurants\, quaint Bed and Breakfast inns\, and the magnificent views.The Mendocino Film Festival runs May 29 - June 1. More information: www.MendocinoFilmFestival.org
X-ALT-DESC;FMTTYPE=text/html:The Ninth Annual Mendocino Film Festival brings the world to Mendocino County. Independent narratives\, documentaries\, short films\, children's films fill the silver screens of Mendocino\, Point Arena\, Fort Bragg\, Willits and Anderson Valley.View films (including three 2014 Academy Award winners) in working wineries at Balo Vineyards and The Madrones in Anderson Valley\, the Festival Tent\, Matheson Performing Arts Center and historic Crown Hall in Mendocino\, Coast Cinemas in Fort Bragg\, Noyo Theatre in Willits\, and the art-deco ambiance of the Point Arena Theater.Special events and Q&amp\;As with filmmakers will round out your Festival experience. You'll also enjoy the comfortable feel of these small towns.Come for the films and stay for the redwoods\, forest walks\, wine and beer tasting\, world-class restaurants\, quaint Bed and Breakfast inns\, and the magnificent views.The Mendocino Film Festival runs May 29 - June 1. More information: www.MendocinoFilmFestival.org
LOCATION:Eight Venues in Mendocino County Wine Country
UID:e.2883.226
SEQUENCE:3
DTSTAMP:20260423T100436Z
URL:https://mendocinocoast.com/events/details/ninth-annual-mendocino-film-festival-04-21-2014-226
END:VEVENT

END:VCALENDAR
