BEGIN:VCALENDAR
VERSION:2.0
PRODID:-//ChamberMaster//Event Calendar 2.0//EN
METHOD:PUBLISH
X-PUBLISHED-TTL:P3D
REFRESH-INTERVAL:P3D
CALSCALE:GREGORIAN
BEGIN:VEVENT
DTSTART:20151129T160100Z
DTEND:20151129T103000Z
X-MICROSOFT-CDO-ALLDAYEVENT:FALSE
SUMMARY:New Years Eve Party
DESCRIPTION:Dinner & Dance Party at the Ledford House Restaurant\, 5 course French Dinner seating 7-9:30 $85Red Rose Ranch Band starts at 10pmChampagne @ midnight
X-ALT-DESC;FMTTYPE=text/html:<p>Dinner &amp\; Dance Party at the Ledford House Restaurant\, 5 course French Dinner seating 7-9:30 $85</p><p>Red Rose Ranch Band starts at 10pm</p><p>Champagne @ midnight</p>
LOCATION:The Ledford House Restaurant Albion
UID:e.2883.800
SEQUENCE:3
DTSTAMP:20260422T000853Z
URL:https://mendocinocoast.com/events/details/new-years-eve-party-11-29-2015-800
END:VEVENT

END:VCALENDAR
