BEGIN:VCALENDAR
VERSION:2.0
PRODID:-//ChamberMaster//Event Calendar 2.0//EN
METHOD:PUBLISH
X-PUBLISHED-TTL:P3D
REFRESH-INTERVAL:P3D
CALSCALE:GREGORIAN
BEGIN:VEVENT
DTSTART:20141231T040000Z
DTEND:20141231T100000Z
X-MICROSOFT-CDO-ALLDAYEVENT:FALSE
SUMMARY:New Years Eve at Silvers
DESCRIPTION:DJ and dancing until 1:00am Special menu choices and free champagne at midnight Phone to book 964-4283
X-ALT-DESC;FMTTYPE=text/html:<p>DJ and dancing until 1:00am Special menu choices and free champagne at midnight Phone to book 964-4283</p>
LOCATION:Silver's at the Wharf Fort Bragg
UID:e.2883.423
SEQUENCE:3
DTSTAMP:20260422T181846Z
URL:https://mendocinocoast.com/events/details/new-years-eve-at-silvers-12-30-2014-423
END:VEVENT

END:VCALENDAR
