BEGIN:VCALENDAR
VERSION:2.0
PRODID:-//ChamberMaster//Event Calendar 2.0//EN
METHOD:PUBLISH
X-PUBLISHED-TTL:P3D
REFRESH-INTERVAL:P3D
CALSCALE:GREGORIAN
BEGIN:VEVENT
DTSTART:20141205T170000Z
DTEND:20141205T093000Z
X-MICROSOFT-CDO-ALLDAYEVENT:FALSE
SUMMARY:New Year's Eve Black & White Ball
DESCRIPTION:Make Your Plans Now to Get Some Fun at the Black & White Ball Presented by Gloriana Musical Theatre.  â€¢ Wednesday\, December 31  â€¢ 8 pm to 12:30 am â€¢ LIVE Music (Jazz\, Latin\, Swing\, Calypso) with "The Mixed Nuts" begins at 9 pm â€¢ No Host Full Bar â€¢ Silent Auction  â€¢ Ticket Includes:  Appetizers\, Champagne Toast at Midnight\, Party Kit with Hats\, Crowns\, and Noisemakers.  â€¢ ADVANCE TICKETS MUST BE PURCHASED BY MONDAY\, DECEMBER 29.  Advance tix: $30pp\, $50 per couple of any type\, at the door: $35 pp\, $60 per couple.   â€¢ MUST BE 21 AND OLDER.  â€¢ DESIGNATED DRIVERS RECEIVE FREE NON-ALCOHOLIC BEVERAGES ALL NIGHT.  â€¢ OBAR11 DOOR TO DOOR TRANSPORTATION SERVICE IS AVAILABLE TO DRIVE YOU HOME (CLEONE TO MENDOCINO.) CAN TAKE UP TO 6 PEOPLE AT A TIME. ****CALL (707) 321-6655 FOR TRANSPORTATION RATES.****  â€¢ GET YOUR ADVANCE TICKETS NOW AT www.Gloriana.org or call (707) 964-7469.
X-ALT-DESC;FMTTYPE=text/html:<p>Make Your Plans Now to Get Some Fun at the Black &amp\; White Ball Presented by Gloriana Musical Theatre.  â€¢ Wednesday\, December 31  â€¢ 8 pm to 12:30 am â€¢ LIVE Music (Jazz\, Latin\, Swing\, Calypso) with "The Mixed Nuts" begins at 9 pm â€¢ No Host Full Bar â€¢ Silent Auction  â€¢ Ticket Includes:  Appetizers\, Champagne Toast at Midnight\, Party Kit with Hats\, Crowns\, and Noisemakers.  â€¢ ADVANCE TICKETS MUST BE PURCHASED BY MONDAY\, DECEMBER 29.  Advance tix: $30pp\, $50 per couple of any type\, at the door: $35 pp\, $60 per couple.   â€¢ MUST BE 21 AND OLDER.  â€¢ DESIGNATED DRIVERS RECEIVE FREE NON-ALCOHOLIC BEVERAGES ALL NIGHT.  â€¢ OBAR11 DOOR TO DOOR TRANSPORTATION SERVICE IS AVAILABLE TO DRIVE YOU HOME (CLEONE TO MENDOCINO.) CAN TAKE UP TO 6 PEOPLE AT A TIME. ****CALL (707) 321-6655 FOR TRANSPORTATION RATES.****  â€¢ GET YOUR ADVANCE TICKETS NOW AT www.Gloriana.org or call (707) 964-7469.</p>
LOCATION:Eagles Hall Theatre\, 210 N. Corry at Alder Fort Bragg
UID:e.2883.387
SEQUENCE:3
DTSTAMP:20260422T182120Z
URL:https://mendocinocoast.com/events/details/new-year-s-eve-black-white-ball-12-05-2014-387
END:VEVENT

END:VCALENDAR
