BEGIN:VCALENDAR
VERSION:2.0
PRODID:-//ChamberMaster//Event Calendar 2.0//EN
METHOD:PUBLISH
X-PUBLISHED-TTL:P3D
REFRESH-INTERVAL:P3D
CALSCALE:GREGORIAN
BEGIN:VEVENT
DTSTART:20150921T170000Z
DTEND:20150921T130000Z
X-MICROSOFT-CDO-ALLDAYEVENT:FALSE
SUMMARY:New Work\, Inspired by the Poetry of W.B. Yeats\, Encaustic and Mixed Media by Pamela Hahn
DESCRIPTION:PARTNERS GALLERYÂ NEW WORK\, INSPIRED BY W. B. YEATSENCAUSTIC AND MIXED MEDIA BY PAMELA HAHNÂ October 1 â€“ November 2\, 2015First Friday Reception October 2\, 5-8pmWine poured by Bink WineryÂ In October Partners Gallery is exhibiting New Work by Pamela Hahn. These encaustic and mixed media pieces are inspired by the poetry of W.B. Yeats. Her work is a response to the vivid imagery of some of Yeatsâ€™ writing (for example\; ...midnight all glimmer or ...silver apples of the moon) while referring to her personal experiences\, memories and encounters with nature.Â As part of Mendocino County Celebrates American Craft Week\, Partners is holding a demonstration by Susan Bridge-Mount on her unique jewelry work with felt and rubber at the gallery on Saturday October 3 from 12 noon to 2pm.Â Partners Gallery is located at 335N. Franklin Street in Fort Bragg and is open Wednesday through Monday 10 am to 5 pm and Sundays 10 am to 4 pm.707 962-0233Â  http://www.partnersgallery.com
X-ALT-DESC;FMTTYPE=text/html:<p>PARTNERS GALLERY</p><p>Â </p><p>NEW WORK\, INSPIRED BY W. B. YEATS</p><p>ENCAUSTIC AND MIXED MEDIA BY PAMELA HAHN</p><p>Â </p><p>October 1 â€“ November 2\, 2015</p><p>First Friday Reception October 2\, 5-8pm</p><p>Wine poured by Bink Winery</p><p>Â </p><p>In October Partners Gallery is exhibiting New Work by Pamela Hahn. These encaustic and mixed media pieces are inspired by the poetry of W.B. Yeats. Her work is a response to the vivid imagery of some of Yeatsâ€™ writing (for example\; ...midnight all glimmer or ...silver apples of the moon) while referring to her personal experiences\, memories and encounters with nature.</p><p>Â </p><p>As part of Mendocino County Celebrates American Craft Week\, Partners is holding a demonstration by Susan Bridge-Mount on her unique jewelry work with felt and rubber at the gallery on Saturday October 3 from 12 noon to 2pm.</p><p>Â </p><p>Partners Gallery is located at 335N. Franklin Street in Fort Bragg and is open Wednesday through Monday 10 am to 5 pm and Sundays 10 am to 4 pm.</p><p>707 962-0233Â  <a href="http://www.partnersgallery.com">http://www.partnersgallery.com</a>&gt\;</p>
LOCATION:Partners Gallery Fort Bragg
UID:e.2883.734
SEQUENCE:3
DTSTAMP:20260422T033527Z
URL:https://mendocinocoast.com/events/details/new-work-inspired-by-the-poetry-of-w-b-yeats-encaustic-and-mixed-media-by-pamela-hahn-09-21-2015-734
END:VEVENT

END:VCALENDAR
