BEGIN:VCALENDAR
VERSION:2.0
PRODID:-//ChamberMaster//Event Calendar 2.0//EN
METHOD:PUBLISH
X-PUBLISHED-TTL:P3D
REFRESH-INTERVAL:P3D
CALSCALE:GREGORIAN
BEGIN:VEVENT
DTSTART:20150527T170000Z
DTEND:20150527T110000Z
X-MICROSOFT-CDO-ALLDAYEVENT:FALSE
SUMMARY:"New Drawings" by Carolyn Schneider
DESCRIPTION:â€˜NEW DRAWINGSCHARCOAL & PASTEL ON HANDMADE PAPERBY CAROLYN SCHNEIDERÂ June 4 â€“ 28First Friday Reception June 5\, 5-8pmÂ "New Drawings"\, a show of recent work by Carolyn Schneider at Partner's Gallery\, portrays a collection of characters wandering a dark cartoon world similar to ours.Â  They include the Grackle Lady\, the Cowgirl Poet\, Mr. Blue\, and Persephone's Daughter.Â  The artist uses charcoal and pastels on handmade paper to create these characters\, using friends\, a manikin\, and glimpses as models.Â Partners Gallery is located at 335N. Franklin Street in Fort Bragg and is open Wednesday through Monday 10 am to 5 pm and Sundays 10 am to 4 pm.707 962-0233Â  http://www.partnersgallery.com
X-ALT-DESC;FMTTYPE=text/html:<p>â€˜NEW DRAWINGS</p><p>CHARCOAL &amp\; PASTEL ON HANDMADE PAPER</p><p>BY CAROLYN SCHNEIDER</p><p>Â </p><p>June 4 â€“ 28</p><p>First Friday Reception June 5\, 5-8pm</p><p>Â </p><p>"New Drawings"\, a show of recent work by Carolyn Schneider at Partner's Gallery\, portrays a collection of characters wandering a dark cartoon world similar to ours.Â  They include the Grackle Lady\, the Cowgirl Poet\, Mr. Blue\, and Persephone's Daughter.Â  The artist uses charcoal and pastels on handmade paper to create these characters\, using friends\, a manikin\, and glimpses as models.</p><p>Â </p><p>Partners Gallery is located at 335N. Franklin Street in Fort Bragg and is open Wednesday through Monday 10 am to 5 pm and Sundays 10 am to 4 pm.</p><p>707 962-0233Â  <a href="http://www.partnersgallery.com">http://www.partnersgallery.com</a>&gt\;</p>
LOCATION:Partners Gallery Fort Bragg
UID:e.2883.635
SEQUENCE:3
DTSTAMP:20260422T115122Z
URL:https://mendocinocoast.com/events/details/new-drawings-by-carolyn-schneider-05-27-2015-635
END:VEVENT

END:VCALENDAR
