BEGIN:VCALENDAR
VERSION:2.0
PRODID:-//ChamberMaster//Event Calendar 2.0//EN
METHOD:PUBLISH
X-PUBLISHED-TTL:P3D
REFRESH-INTERVAL:P3D
CALSCALE:GREGORIAN
BEGIN:VEVENT
DTSTART;VALUE=DATE:20140313
DTEND;VALUE=DATE:20140314
TRANSP:TRANSPARENT
X-MICROSOFT-CDO-ALLDAYEVENT:TRUE
SUMMARY:NEED FOR SPEED Release Date
DESCRIPTION:In theatres!
X-ALT-DESC;FMTTYPE=text/html:In theatres! 
LOCATION:0 Mendocino
UID:e.2883.76
SEQUENCE:3
DTSTAMP:20260423T113532Z
URL:https://mendocinocoast.com/events/details/need-for-speed-release-date-03-13-2014-76
END:VEVENT

END:VCALENDAR
