BEGIN:VCALENDAR
VERSION:2.0
PRODID:-//ChamberMaster//Event Calendar 2.0//EN
METHOD:PUBLISH
X-PUBLISHED-TTL:P3D
REFRESH-INTERVAL:P3D
CALSCALE:GREGORIAN
BEGIN:VEVENT
DTSTART;VALUE=DATE:20150204
DTEND;VALUE=DATE:20150205
TRANSP:TRANSPARENT
X-MICROSOFT-CDO-ALLDAYEVENT:TRUE
SUMMARY:Navarro Point Stewardship Day
DESCRIPTION:Navarro Point Stewards volunteer to assist in managing the preserve and trail though the removal of invasive plant species and trail maintenance. You can join the volunteers who steward this great place.Â  Workdays are held on the second Wednesday of each month\, from 10 a.m. until noon.To become a Navarro Point Steward\, contact Nicolet Houtz at nhoutz@mendocinolandtrust.org or call (707) 962-0470.
X-ALT-DESC;FMTTYPE=text/html:<p>Navarro Point Stewards volunteer to assist in managing the preserve and trail though the removal of invasive plant species and trail maintenance. You can join the volunteers who steward this great place.Â  Workdays are held on the second Wednesday of each month\, from 10 a.m. until noon.</p><p><span>To become a Navarro Point Steward\, contact Nicolet Houtz at </span><a href="mailto:nhoutz@mendocinolandtrust.org">nhoutz@mendocinolandtrust.org</a><span> or call (707) 962-0470.</span></p>
LOCATION:Navarro Point Fort Bragg
UID:e.2883.496
SEQUENCE:3
DTSTAMP:20260422T152014Z
URL:https://mendocinocoast.com/events/details/navarro-point-stewardship-day-02-04-2015-496
END:VEVENT

END:VCALENDAR
