BEGIN:VCALENDAR
VERSION:2.0
PRODID:-//ChamberMaster//Event Calendar 2.0//EN
METHOD:PUBLISH
X-PUBLISHED-TTL:P3D
REFRESH-INTERVAL:P3D
CALSCALE:GREGORIAN
BEGIN:VEVENT
DTSTART:20141231T193000Z
DTEND:20141231T093000Z
X-MICROSOFT-CDO-ALLDAYEVENT:FALSE
SUMMARY:#NAME?
DESCRIPTION:Â Wednesday\, December 31\, 11 pm--Gentle Yoga with Delphine. (Doors open at 10:30 pm\, class lasts until approximately 12:30 am\, January 1\, 2015)event linkÂ http://livingwellmendocino.com/events/new-years-eveday-midnight-gentle-yoga/Â
X-ALT-DESC;FMTTYPE=text/html:<p>Â </p><div>Wednesday\, December 31\, 11 pm--Gentle Yoga with Delphine. (Doors open at 10:30 pm\, class lasts until approximately 12:30 am\, January 1\, 2015)</div><div>event linkÂ <a href="http://livingwellmendocino.com/events/new-years-eveday-midnight-gentle-yoga/">http://livingwellmendocino.com/events/new-years-eveday-midnight-gentle-yoga/</a></div><p>Â </p>
LOCATION:Stanford Inn Mendocino
UID:e.2883.420
SEQUENCE:3
DTSTAMP:20260422T181533Z
URL:https://mendocinocoast.com/events/details/name-12-31-2014-420
END:VEVENT

END:VCALENDAR
