BEGIN:VCALENDAR
VERSION:2.0
PRODID:-//ChamberMaster//Event Calendar 2.0//EN
METHOD:PUBLISH
X-PUBLISHED-TTL:P3D
REFRESH-INTERVAL:P3D
CALSCALE:GREGORIAN
BEGIN:VEVENT
DTSTART:20171106T000000Z
DTEND:20171106T023000Z
X-MICROSOFT-CDO-ALLDAYEVENT:FALSE
SUMMARY:Mycology in Industry (and Art)
DESCRIPTION:Philip Ross makes vegan leather from mycelium. His industrial applications for this building block of fungi started some 20 years ago as an art project and over time have 'mushroomed' into a biotech company called Mycoworks.\n\n \n\nThis talk will illuminate the challenges of bringing new biological materials into compliance for manufacturing\, and a map to rapid global implementation of resource efficient material production using fungi. There will be a mushroom-themed reception afterwards.\n\n \n\nPresented as part of Mendocino County's 18th Annual Mushroom\, Wine & Beer Festival.
X-ALT-DESC;FMTTYPE=text/html:<span style="font-family:helvetica"><span style="font-size:12.0pt">Philip Ross makes vegan leather from mycelium. His industrial applications for this building block of fungi started some 20 years ago as an art project and over time have &lsquo\;mushroomed&rsquo\; into a biotech company called Mycoworks.</span></span><br />\n&nbsp\;<br />\n<span style="font-family:helvetica"><span style="font-size:12.0pt">This talk will illuminate the&nbsp\;challenges of bringing new biological materials into compliance for manufacturing\,&nbsp\;and a map to rapid global implementation of resource efficient material production using fungi. </span></span><span style="font-family:helvetica"><span style="font-size:12.0pt">There will be a mushroom-themed reception afterwards.</span></span><br />\n&nbsp\;<br />\n<span style="font-family:helvetica"><span style="font-size:12.0pt">Presented as part of Mendocino County&rsquo\;s 18<sup>th</sup> Annual Mushroom\, Wine &amp\; Beer Festival.</span></span>
LOCATION:Mendocino Art Center's Helen Schoeni Theatre 45200 Little Lake Street Mendocino
UID:e.2883.5267
SEQUENCE:3
DTSTAMP:20260421T104605Z
URL:https://mendocinocoast.com/events/details/mycology-in-industry-and-art-5267
END:VEVENT

END:VCALENDAR
