BEGIN:VCALENDAR
VERSION:2.0
PRODID:-//ChamberMaster//Event Calendar 2.0//EN
METHOD:PUBLISH
X-PUBLISHED-TTL:P3D
REFRESH-INTERVAL:P3D
CALSCALE:GREGORIAN
BEGIN:VEVENT
DTSTART:20140905T180000Z
DTEND:20140906T010000Z
X-MICROSOFT-CDO-ALLDAYEVENT:FALSE
SUMMARY:Mushroom\, Wine & Beer Train
DESCRIPTION:Celebrate Mendocino County's Annual Mushroom\, Wine & Beer Train in style while supporting one of our county's most precious resources! Take a ride on the historic Skunk Train (departing from Willits or Fort Bragg) into the heart of the redwoods. Sample the best that Mendocino County chefs\, wineries & breweries have to offer while enjoying entertainment by Steven Bates and mushroom walks and talks with local expert Eric Schramm. All proceeds benefit the Mendocino County Museum. Advance tickets now on sale for $105\; after October 1 tickets are $115 per person. For tickets or questions call 707 459-2736 or visit www.MendocinoMuseum.org.
X-ALT-DESC;FMTTYPE=text/html:<p>Celebrate Mendocino County's Annual Mushroom\, Wine &amp\; Beer Train in style while supporting one of our county's most precious resources! Take a ride on the historic Skunk Train (departing from Willits or Fort Bragg) into the heart of the redwoods. Sample the best that Mendocino County chefs\, wineries &amp\; breweries have to offer while enjoying entertainment by Steven Bates and mushroom walks and talks with local expert Eric Schramm. All proceeds benefit the Mendocino County Museum. Advance tickets now on sale for $105\; after October 1 tickets are $115 per person. For tickets or questions call 707 459-2736 or visit www.MendocinoMuseum.org.</p>
LOCATION:Mendocino County Museum Fort Bragg & Willits
UID:e.2883.325
SEQUENCE:3
DTSTAMP:20260422T231651Z
URL:https://mendocinocoast.com/events/details/mushroom-wine-beer-train-09-05-2014-325
END:VEVENT

END:VCALENDAR
