BEGIN:VCALENDAR
VERSION:2.0
PRODID:-//ChamberMaster//Event Calendar 2.0//EN
METHOD:PUBLISH
X-PUBLISHED-TTL:P3D
REFRESH-INTERVAL:P3D
CALSCALE:GREGORIAN
BEGIN:VEVENT
DTSTART;VALUE=DATE:20141024
DTEND;VALUE=DATE:20141025
TRANSP:TRANSPARENT
X-MICROSOFT-CDO-ALLDAYEVENT:TRUE
SUMMARY:Mushroom Festival Gourmet Vegan Dinner
DESCRIPTION:Join us along with Chefs Rhonda Beyreis & Coral Parrish of Living Light for an evening of fun and a delicious mushroom themed meal at the Grey Whale Inn November 20th 7pm to 9pm. The chefs will be preparing a 3-4 course meal\, hors d'oeuvres\, desserts and non-alcoholic beverages for everyone to enjoy! $40/person. Seating is limited. If there is an overwhelming demand\, the chefs will host an additional dinner on November 19th.
X-ALT-DESC;FMTTYPE=text/html:<p>Join us along with Chefs Rhonda Beyreis &amp\; Coral Parrish of Living Light for an evening of fun and a delicious mushroom themed meal at the Grey Whale Inn November 20th 7pm to 9pm. The chefs will be preparing a 3-4 course meal\, hors d'oeuvres\, desserts and non-alcoholic beverages for everyone to enjoy! $40/person. Seating is limited. If there is an overwhelming demand\, the chefs will host an additional dinner on November 19th.</p>
LOCATION:The Grey Whale Inn Fort Bragg
UID:e.2883.356
SEQUENCE:3
DTSTAMP:20260422T214944Z
URL:https://mendocinocoast.com/events/details/mushroom-festival-gourmet-vegan-dinner-10-24-2014-356
END:VEVENT

END:VCALENDAR
