BEGIN:VCALENDAR
VERSION:2.0
PRODID:-//ChamberMaster//Event Calendar 2.0//EN
METHOD:PUBLISH
X-PUBLISHED-TTL:P3D
REFRESH-INTERVAL:P3D
CALSCALE:GREGORIAN
BEGIN:VEVENT
DTSTART;VALUE=DATE:20140914
DTEND;VALUE=DATE:20140915
TRANSP:TRANSPARENT
X-MICROSOFT-CDO-ALLDAYEVENT:TRUE
SUMMARY:MUSE Crab Feed is SOLD OUT!
DESCRIPTION:MUSE's (Mendocino Unified School Enrichment) second annual crab feed and auction at the Little River Inn. Â Friday\, January 30th\, 2015\, 6-9PM. Â Reserve your seat now by calling 707-937-5942. Â SOLD OUT!
X-ALT-DESC;FMTTYPE=text/html:<p>MUSE's (Mendocino Unified School Enrichment) second annual crab feed and auction at the Little River Inn. Â Friday\, January 30th\, 2015\, 6-9PM. Â Reserve your seat now by calling 707-937-5942. Â SOLD OUT!</p>
LOCATION:Little River Inn
UID:e.2883.329
SEQUENCE:3
DTSTAMP:20260422T231744Z
URL:https://mendocinocoast.com/events/details/muse-crab-feed-is-sold-out-09-14-2014-329
END:VEVENT

END:VCALENDAR
